BEGIN:VCALENDAR
VERSION:2.0
PRODID:-//confraternita-sangalgano-1 - ECPv6.15.20//NONSGML v1.0//EN
CALSCALE:GREGORIAN
METHOD:PUBLISH
X-WR-CALNAME:confraternita-sangalgano-1
X-ORIGINAL-URL:https://confraternita-sangalgano.it
X-WR-CALDESC:Eventi per confraternita-sangalgano-1
REFRESH-INTERVAL;VALUE=DURATION:PT1H
X-Robots-Tag:noindex
X-PUBLISHED-TTL:PT1H
BEGIN:VTIMEZONE
TZID:UTC
BEGIN:STANDARD
TZOFFSETFROM:+0000
TZOFFSETTO:+0000
TZNAME:UTC
DTSTART:20180101T000000
END:STANDARD
END:VTIMEZONE
BEGIN:VEVENT
DTSTART;TZID=UTC:20191019T170000
DTEND;TZID=UTC:20191019T170000
DTSTAMP:20260424T104333
CREATED:20191009T200705Z
LAST-MODIFIED:20191009T201624Z
UID:2049-1571504400-1571504400@confraternita-sangalgano.it
SUMMARY:I luoghi di San Galgano al di fuori della Val di Merse
DESCRIPTION:I luoghi di San Galgano al di fuori della Val di Merse: viaggio in Garfagnana e Val di Chiana\nIl cav. Prof. Andrea Conti inaugura il ciclo di conferenze organizzate dalla nostra Accademia per la stagione 2019-2020 invitandoci alla scoperta dei luoghi di San Galgano fuori dalla Val di Merse \nCon il patrocinio di: \nCOMUNE DI CHIUSDINO \n \nINCLITA ED INSIGNE COMPAGNIA DI SAN GALGANO \n \nISTITUTO PER LA VALORIZZAZIONE DELLE ABBAZIE STORICHE DELLA TOSCANA
URL:https://confraternita-sangalgano.it/event/i-luoghi-di-san-galgano-al-di-fuori-della-val-di-merse/
LOCATION:MUSEO CIVICO E DIOCESANO SAN GALGANO\, VIA UMBERTO I\, 19\, CHIUSDINO\, SI\, 53012\, Italia
ATTACH;FMTTYPE=image/jpeg:https://confraternita-sangalgano.it/wp-content/uploads/1.Manifesto.-Ottobre.jpg
END:VEVENT
END:VCALENDAR